BEGIN:VCALENDAR;
VERSION:2.0;
PRODID:-//Montreal Sports Council - ECPv6.14.1//NONSGML v1.0//EN;
CALSCALE:GREGORIAN;
METHOD:PUBLISH;
X-WR-CALNAME:Montreal Sports Council
X-ORIGINAL-URL:https://conseilsportmontreal.ca\
X-WR-CALDESC:Events for Montreal Sports Council\
REFRESH-INTERVAL;VALUE=DURATION:PT1H\
X-Robots-Tag:noindex\
X-PUBLISHED-TTL:PT1H
BEGIN:VTIMEZONE
TZID:America/Toronto
BEGIN:DAYLIGHT
TZOFFSETFROM:-0500
TZOFFSETTO:-0400
TZNAME:EDT
DTSTART:20220313T070000
END:DAYLIGHT
BEGIN:STANDARD
TZOFFSETFROM:-0400
TZOFFSETTO:-0500
TZNAME:EST
DTSTART:20221106T060000
END:STANDARD
END:VTIMEZONE
BEGIN:VEVENT
DTSTART;TZID=America/Toronto:20221103T090000
DTEND;TZID=America/Toronto:20221103T093000
DTSTAMP:20260422T130639
CREATED:20221026T194809Z
LAST-MODIFIED:20230123T192352Z
UID:10000001-1667466000-1667467800@conseilsportmontreal.ca
SUMMARY:Montreal Podium Gala
DESCRIPTION:
URL:https://conseilsportmontreal.ca/evenement/gala-podium-montreal/
LOCATION:Pierre-Charbonneau Centre
CATEGORIES:Sports Council Event
ATTACH;FMTTYPE=image/png:https://conseilsportmontreal.ca/wp-content/uploads/2022/10/gala-podium-montreal.png
END:VEVENT
BEGIN:VEVENT
DTSTART;TZID=America/Toronto:20221122T090000
DTEND;TZID=America/Toronto:20221122T093000
DTSTAMP:20260422T130639
CREATED:20221026T195739Z
LAST-MODIFIED:20221027T204101Z
UID:10000002-1669107600-1669109400@conseilsportmontreal.ca
SUMMARY:Training Name
DESCRIPTION:
URL:https://conseilsportmontreal.ca/evenement/nom-de-la-formation/\
LOCATION:Claude-Robillard Sports Complex, 1000 Émile-Journault Ave., Montreal, Quebec, H2M 2E7, Canada\
CATEGORIES:Training\
END:VEVENT\
END:VCALENDAR