BEGIN:VCALENDAR;
VERSION:2.0;
PRODID:-//Montreal Sports Council - ECPv6.14.1//NONSGML v1.0//EN;
CALSCALE:GREGORIAN;
METHOD:PUBLISH;
X-WR-CALNAME:Montreal Sports Council
X-ORIGINAL-URL:https://conseilsportmontreal.ca\
X-WR-CALDESC:Events for Montreal Sports Council\
REFRESH-INTERVAL;VALUE=DURATION:PT1H\
X-Robots-Tag:noindex\
X-PUBLISHED-TTL:PT1H
BEGIN:VTIMEZONE
TZID:America/Toronto
BEGIN:DAYLIGHT
TZOFFSETFROM:-0500
TZOFFSETTO:-0400
TZNAME:EDT
DTSTART:20230312T070000
END:DAYLIGHT
BEGIN:STANDARD
TZOFFSETFROM:-0400
TZOFFSETTO:-0500
TZNAME:EST
DTSTART:20231105T060000
END:STANDARD
END:VTIMEZONE
BEGIN:VEVENT
DTSTART;TZID=America/Toronto:20230224T080000
DTEND;TZID=America/Toronto:20230305T170000
DTSTAMP:20260422T084356
CREATED:20230203T162423Z
LAST-MODIFIED:20230203T162423Z
UID:10000020-1677225600-1678035600@conseilsportmontreal.ca
SUMMARY:APIK
DESCRIPTION:
URL:https://conseilsportmontreal.ca/evenement/apik/
LOCATION:Quartier des spectacles
CATEGORIES:Sports event
ATTACH;FMTTYPE=image/jpeg:https://conseilsportmontreal.ca/wp-content/uploads/2023/02/kypmiz3qvqzwignq5ku7.jpg
END:VEVENT
END:VCALENDAR