BEGIN:VCALENDAR;
VERSION:2.0;
PRODID:-//Montreal Sports Council - ECPv6.14.1//NONSGML v1.0//EN;
CALSCALE:GREGORIAN;
METHOD:PUBLISH;
X-WR-CALNAME:Montreal Sports Council
X-ORIGINAL-URL:https://conseilsportmontreal.ca\
X-WR-CALDESC:Events for Montreal Sports Council\
REFRESH-INTERVAL;VALUE=DURATION:PT1H\
X-Robots-Tag:noindex\
X-PUBLISHED-TTL:PT1H
BEGIN:VTIMEZONE
TZID:America/Toronto
BEGIN:DAYLIGHT
TZOFFSETFROM:-0500
TZOFFSETTO:-0400
TZNAME:EDT
DTSTART:20230312T070000
END:DAYLIGHT
BEGIN:STANDARD
TZOFFSETFROM:-0400
TZOFFSETTO:-0500
TZNAME:EST
DTSTART:20231105T060000
END:STANDARD
END:VTIMEZONE
BEGIN:VEVENT
DTSTART;TZID=America/Toronto:20230506T193000;
DTEND;TZID=America/Toronto:20230506T213000;
DTSTAMP:20260422T041349;
CREATED:20230227T193423Z
LAST-MODIFIED:20230227T193423Z
UID:10000029-1683401400-1683408600@conseilsportmontreal.ca
SUMMARY:CF Montréal vs Orlando\
DESCRIPTION:\
URL:https://conseilsportmontreal.ca/evenement/cf-montreal-vs-orlando/\
LOCATION:Saputo Stadium\
CATEGORIES:Sports event\
ATTACH;FMTTYPE=image/png:https://conseilsportmontreal.ca/wp-content/uploads/2023/02/cf-montreal-logo-2023svg.png
END:VEVENT
BEGIN:VEVENT
DTSTART;TZID=America/Toronto:20230513T193000
DTEND;TZID=America/Toronto:20230513T213000;
DTSTAMP:20260422T041349;
CREATED:20230227T193537Z;
LAST-MODIFIED:20230227T193537Z
UID:10000030-1684006200-1684013400@conseilsportmontreal.ca
SUMMARY:CF Montreal vs Toronto
DESCRIPTION:
URL:https://conseilsportmontreal.ca/evenement/cf-montreal-vs-toronto/
LOCATION:Saputo Stadium
CATEGORIES:Sports event
ATTACH;FMTTYPE=image/png:https://conseilsportmontreal.ca/wp-content/uploads/2023/02/cf-montreal-logo-2023svg.png
END:VEVENT
BEGIN:VEVENT
DTSTART;TZID=America/Toronto:20230526T193000
DTEND;TZID=America/Toronto:20230526T210000
DTSTAMP:20260422T041349
CREATED:20221026T195821Z
LAST-MODIFIED:20230127T161718Z
UID:10000003-1685129400-1685134800@conseilsportmontreal.ca
SUMMARY:Montreal Alliance vs. Niagara River Lions\
DESCRIPTION:\
URL:https://conseilsportmontreal.ca/evenement/nom-de-levenement/\
LOCATION:Verdun Auditorium\, 4110 LaSalle Blvd., Verdun\, Montreal\, Quebec\, H4G 2A5\
CATEGORIES:Sports Event
ATTACH;FMTTYPE=image/png:https://conseilsportmontreal.ca/wp-content/uploads/2022/10/alliance-banniere.png
END:VEVENT
BEGIN:VEVENT
DTSTART;TZID=America/Toronto:20230527T193000
DTEND;TZID=America/Toronto:20230527T213000
DTSTAMP:20260422T041349
CREATED:20230227T193647Z
LAST-MODIFIED:20230227T193647Z
UID:10000031-1685215800-1685223000@conseilsportmontreal.ca
SUMMARY:CF Montréal vs Miami
DESCRIPTION:
URL:https://conseilsportmontreal.ca/evenement/cf-montreal-vs-miami/
LOCATION:Saputo Stadium
CATEGORIES:Sports Event
ATTACH;FMTTYPE=image/png:https://conseilsportmontreal.ca/wp-content/uploads/2023/02/cf-montreal-logo-2023svg.png
END:VEVENT
BEGIN:VEVENT
DTSTART;TZID=America/Toronto:20230528T160000
DTEND;TZID=America/Toronto:20230528T173000
DTSTAMP:20260422T041349
CREATED:20230124T202855Z
LAST-MODIFIED:20230127T161658Z
UID:10000013-1685289600-1685295000@conseilsportmontreal.ca
SUMMARY:Montreal Alliance vs. Ottawa BlackJacks\
DESCRIPTION:\
URL:https://conseilsportmontreal.ca/evenement/alliance-montreal-vs-ottawa-blackjacks/\
LOCATION:Verdun Auditorium\, 4110 LaSalle Blvd., Verdun\, Montreal\, Quebec\, H4G 2A5
CATEGORIES:Sports Event
ATTACH;FMTTYPE=image/png:https://conseilsportmontreal.ca/wp-content/uploads/2022/10/alliance-banniere.png
END:VEVENT
BEGIN:VEVENT
DTSTART;TZID=America/Toronto:20230529T083000
DTEND;TZID=America/Toronto:20230530T170000
DTSTAMP:20260422T041349
CREATED:20230306T185009Z
LAST-MODIFIED:20250423T145730Z
UID:10000037-1685349000-1685466000@conseilsportmontreal.ca
SUMMARY:2023 Montreal Sports Summit
DESCRIPTION:
URL:https://conseilsportmontreal.ca/evenement/sommet-du-sport-de-montreal/\
LOCATION:Claude-Robillard Sports Complex, 1000 Émile-Journault Ave., Montreal, Quebec, H2M 2E7, Canada\
CATEGORIES:Sports Council Event
ATTACH;FMTTYPE=image/png:https://conseilsportmontreal.ca/wp-content/uploads/2023/02/sommet-1.png\
END:VEVENT\
END:VCALENDAR