BEGIN:VCALENDAR
VERSION:2.0
PRODID:-//Conseil du Sport de Montréal - ECPv6.14.1//NONSGML v1.0//EN
CALSCALE:GREGORIAN
METHOD:PUBLISH
X-ORIGINAL-URL:https://conseilsportmontreal.ca
X-WR-CALDESC:Évènements pour Conseil du Sport de Montréal
REFRESH-INTERVAL;VALUE=DURATION:PT1H
X-Robots-Tag:noindex
X-PUBLISHED-TTL:PT1H
BEGIN:VTIMEZONE
TZID:America/Toronto
BEGIN:DAYLIGHT
TZOFFSETFROM:-0500
TZOFFSETTO:-0400
TZNAME:EDT
DTSTART:20230312T070000
END:DAYLIGHT
BEGIN:STANDARD
TZOFFSETFROM:-0400
TZOFFSETTO:-0500
TZNAME:EST
DTSTART:20231105T060000
END:STANDARD
END:VTIMEZONE
BEGIN:VEVENT
DTSTART;TZID=America/Toronto:20230604T160000
DTEND;TZID=America/Toronto:20230604T173000
DTSTAMP:20260422T030741
CREATED:20230124T210344Z
LAST-MODIFIED:20230127T161641Z
UID:10000012-1685894400-1685899800@conseilsportmontreal.ca
SUMMARY:Alliance Montréal vs Brampton Honey Badgers
DESCRIPTION:
URL:https://conseilsportmontreal.ca/evenement/alliance-montreal-vs-brampton-honey-badgers/
LOCATION:Auditorium de Verdun\, 4110 Bd LaSalle\, Verdun\, Montréal\, Québec\, H4G 2A5
CATEGORIES:Evènement sportif
ATTACH;FMTTYPE=image/png:https://conseilsportmontreal.ca/wp-content/uploads/2022/10/alliance-banniere.png
END:VEVENT
BEGIN:VEVENT
DTSTART;TZID=America/Toronto:20230610T193000
DTEND;TZID=America/Toronto:20230610T213000
DTSTAMP:20260422T030741
CREATED:20230227T193811Z
LAST-MODIFIED:20230227T193811Z
UID:10000032-1686425400-1686432600@conseilsportmontreal.ca
SUMMARY:CF Montréal vs Minnesota
DESCRIPTION:
URL:https://conseilsportmontreal.ca/evenement/cf-montreal-vs-minnesota/
LOCATION:Stade Saputo
CATEGORIES:Evènement sportif
ATTACH;FMTTYPE=image/png:https://conseilsportmontreal.ca/wp-content/uploads/2023/02/cf-montreal-logo-2023svg.png
END:VEVENT
BEGIN:VEVENT
DTSTART;TZID=America/Toronto:20230611T130000
DTEND;TZID=America/Toronto:20230611T153000
DTSTAMP:20260422T030741
CREATED:20230608T144956Z
LAST-MODIFIED:20230608T145124Z
UID:10000039-1686488400-1686497400@conseilsportmontreal.ca
SUMMARY:Montréal Royal vs. Boston Glory
DESCRIPTION:
URL:https://conseilsportmontreal.ca/evenement/montreal-royal-vs-boston-glory/
LOCATION:Complexe sportif Claude-Robillard\, 1000\, av. Émile-Journault\, Montréal\, Québec\, H2M 2E7\, Canada
CATEGORIES:Evènement sportif
ATTACH;FMTTYPE=image/png:https://conseilsportmontreal.ca/wp-content/uploads/2023/06/royal-de-montreal.png
END:VEVENT
BEGIN:VEVENT
DTSTART;TZID=America/Toronto:20230611T160000
DTEND;TZID=America/Toronto:20230611T173000
DTSTAMP:20260422T030741
CREATED:20230124T211027Z
LAST-MODIFIED:20230127T161623Z
UID:10000011-1686499200-1686504600@conseilsportmontreal.ca
SUMMARY:Alliance Montréal vs Scarborough Shooting Stars
DESCRIPTION:
URL:https://conseilsportmontreal.ca/evenement/alliance-montreal-vs-scarborough-shooting-stars/
LOCATION:Auditorium de Verdun\, 4110 Bd LaSalle\, Verdun\, Montréal\, Québec\, H4G 2A5
CATEGORIES:Evènement sportif
ATTACH;FMTTYPE=image/png:https://conseilsportmontreal.ca/wp-content/uploads/2022/10/alliance-banniere.png
END:VEVENT
BEGIN:VEVENT
DTSTART;TZID=America/Toronto:20230616T100000
DTEND;TZID=America/Toronto:20230618T170000
DTSTAMP:20260422T030741
CREATED:20230608T145651Z
LAST-MODIFIED:20230608T145651Z
UID:10000040-1686909600-1687107600@conseilsportmontreal.ca
SUMMARY:Grand Prix 2023 de Formule 1
DESCRIPTION:
URL:https://conseilsportmontreal.ca/evenement/grand-prix-2023-de-formule-1/
LOCATION:Circuit Gilles-Villeneuve
ATTACH;FMTTYPE=image/png:https://conseilsportmontreal.ca/wp-content/uploads/2023/06/download.png
END:VEVENT
BEGIN:VEVENT
DTSTART;TZID=America/Toronto:20230621T193000
DTEND;TZID=America/Toronto:20230621T213000
DTSTAMP:20260422T030741
CREATED:20230227T193924Z
LAST-MODIFIED:20230227T193924Z
UID:10000033-1687375800-1687383000@conseilsportmontreal.ca
SUMMARY:CF Montréal vs Nashville
DESCRIPTION:
URL:https://conseilsportmontreal.ca/evenement/cf-montreal-vs-nashville/
LOCATION:Stade Saputo
CATEGORIES:Evènement sportif
ATTACH;FMTTYPE=image/png:https://conseilsportmontreal.ca/wp-content/uploads/2023/02/cf-montreal-logo-2023svg.png
END:VEVENT
BEGIN:VEVENT
DTSTART;TZID=America/Toronto:20230623T170000
DTEND;TZID=America/Toronto:20230623T200000
DTSTAMP:20260422T030741
CREATED:20230608T145842Z
LAST-MODIFIED:20230608T145842Z
UID:10000041-1687539600-1687550400@conseilsportmontreal.ca
SUMMARY:Montréal Royal vs. DC Breeze
DESCRIPTION:
URL:https://conseilsportmontreal.ca/evenement/montreal-royal-vs-dc-breeze/
LOCATION:Complexe sportif Claude-Robillard\, 1000\, av. Émile-Journault\, Montréal\, Québec\, H2M 2E7\, Canada
ATTACH;FMTTYPE=image/png:https://conseilsportmontreal.ca/wp-content/uploads/2023/06/royal-de-montreal.png
END:VEVENT
BEGIN:VEVENT
DTSTART;TZID=America/Toronto:20230623T193000
DTEND;TZID=America/Toronto:20230623T213000
DTSTAMP:20260422T030741
CREATED:20230608T151037Z
LAST-MODIFIED:20230608T151037Z
UID:10000042-1687548600-1687555800@conseilsportmontreal.ca
SUMMARY:Alouettes de Montréal vs. Tiger Cats d’Hamilton
DESCRIPTION:
URL:https://conseilsportmontreal.ca/evenement/alouettes-de-montreal-vs-tiger-cats-dhamilton/
LOCATION:Stade Percival-Molson\, 475 avenue des pins\, Montreal\, h2w1s4
ATTACH;FMTTYPE=image/jpeg:https://conseilsportmontreal.ca/wp-content/uploads/2023/06/t6ow4q1z-400x400-1.jpg
ORGANIZER;CN="Allouettes de Montr%C3%A9al":MAILTO:https://www.montrealalouettes.com
END:VEVENT
BEGIN:VEVENT
DTSTART;VALUE=DATE:20230624
DTEND;VALUE=DATE:20230626
DTSTAMP:20260422T030741
CREATED:20230608T153014Z
LAST-MODIFIED:20230608T154347Z
UID:10000043-1687564800-1687737599@conseilsportmontreal.ca
SUMMARY:Montréal Trippe Triathlon - World Triathlon Championship Series
DESCRIPTION:
URL:https://conseilsportmontreal.ca/evenement/montreal-trippe-triathlon/
LOCATION:Montréal (plusieurs sites)
ATTACH;FMTTYPE=image/jpeg:https://conseilsportmontreal.ca/wp-content/uploads/2023/06/fuqloazxoaakm1i.jpg
END:VEVENT
BEGIN:VEVENT
DTSTART;TZID=America/Toronto:20230625T160000
DTEND;TZID=America/Toronto:20230625T173000
DTSTAMP:20260422T030741
CREATED:20230124T211145Z
LAST-MODIFIED:20230127T161558Z
UID:10000010-1687708800-1687714200@conseilsportmontreal.ca
SUMMARY:Alliance Montréal vs Edmonton Stingers
DESCRIPTION:
URL:https://conseilsportmontreal.ca/evenement/alliance-montreal-vs-edmonton-stingers/
LOCATION:Auditorium de Verdun\, 4110 Bd LaSalle\, Verdun\, Montréal\, Québec\, H4G 2A5
CATEGORIES:Evènement sportif
ATTACH;FMTTYPE=image/png:https://conseilsportmontreal.ca/wp-content/uploads/2022/10/alliance-banniere.png
END:VEVENT
BEGIN:VEVENT
DTSTART;TZID=America/Toronto:20230628T193000
DTEND;TZID=America/Toronto:20230628T210000
DTSTAMP:20260422T030741
CREATED:20230124T211256Z
LAST-MODIFIED:20230127T161536Z
UID:10000009-1687980600-1687986000@conseilsportmontreal.ca
SUMMARY:Alliance Montréal vs Saskatchewan Rattlers
DESCRIPTION:
URL:https://conseilsportmontreal.ca/evenement/alliance-montreal-vs-saskatchewan-rattlers/
LOCATION:Auditorium de Verdun\, 4110 Bd LaSalle\, Verdun\, Montréal\, Québec\, H4G 2A5
CATEGORIES:Evènement sportif
ATTACH;FMTTYPE=image/png:https://conseilsportmontreal.ca/wp-content/uploads/2022/10/alliance-banniere.png
END:VEVENT
BEGIN:VEVENT
DTSTART;VALUE=DATE:20230629
DTEND;VALUE=DATE:20230630
DTSTAMP:20260422T030741
CREATED:20230608T154016Z
LAST-MODIFIED:20230608T154016Z
UID:10000044-1687996800-1688083199@conseilsportmontreal.ca
SUMMARY:Classique d’athlétisme de Montréal
DESCRIPTION:
URL:https://conseilsportmontreal.ca/evenement/classique-dathletisme-de-montreal/
LOCATION:Complexe sportif Claude-Robillard\, 1000\, av. Émile-Journault\, Montréal\, Québec\, H2M 2E7\, Canada
ATTACH;FMTTYPE=image/jpeg:https://conseilsportmontreal.ca/wp-content/uploads/2023/06/z0eqjqym-400x400-1.jpg
END:VEVENT
END:VCALENDAR