BEGIN:VCALENDAR
VERSION:2.0
PRODID:-//Montreal Sports Council - ECPv6.14.1//NONSGML v1.0//EN
CALSCALE:GREGORIAN
METHOD:PUBLISH
X-ORIGINAL-URL:https://conseilsportmontreal.ca
X-WR-CALDESC:Events for Montreal Sports Council\
REFRESH-INTERVAL;VALUE=DURATION:PT1H\
X-Robots-Tag:noindex\
X-PUBLISHED-TTL:PT1H\
BEGIN:VTIMEZONE\
TZID:America/Toronto
BEGIN:DAYLIGHT;
TZOFFSETFROM:-0500;
TZOFFSETTO:-0400;
TZNAME:EDT;
DTSTART:20230312T070000;
END:DAYLIGHT;
BEGIN:STANDARD;
TZOFFSETFROM:-0400
TZOFFSETTO:-0500
TZNAME:EST
DTSTART:20231105T060000
END:STANDARD
END:VTIMEZONE
BEGIN:VEVENT
DTSTART;TZID=America/Toronto:20231004T193000
DTEND;TZID=America/Toronto:20231004T220000
DTSTAMP:20260421T220654
CREATED:20230830T125958Z
LAST-MODIFIED:20230830T130300Z
UID:10000074-1696447800-1696456800@conseilsportmontreal.ca
SUMMARY:CF Montréal vs Houston
DESCRIPTION:
URL:https://conseilsportmontreal.ca/evenement/cf-montreal-vs-houston/
LOCATION:Saputo Stadium
CATEGORIES:Sports event
ATTACH;FMTTYPE=image/png:https://conseilsportmontreal.ca/wp-content/uploads/2023/08/cf-montreal-logo-2023svg.png
END:VEVENT
BEGIN:VEVENT
DTSTART;TZID=America/Toronto:20231007T193000
DTEND;TZID=America/Toronto:20231007T210000
DTSTAMP:20260421T220654
CREATED:20230830T130403Z
LAST-MODIFIED:20230830T130403Z
UID:10000073-1696707000-1696712400@conseilsportmontreal.ca
SUMMARY:CF Montréal vs Portland
DESCRIPTION:
URL:https://conseilsportmontreal.ca/evenement/cf-montreal-vs-portland/
LOCATION:Saputo Stadium
CATEGORIES:Sports event
ATTACH;FMTTYPE=image/png:https://conseilsportmontreal.ca/wp-content/uploads/2023/08/cf-montreal-logo-2023svg.png
END:VEVENT
BEGIN:VEVENT
DTSTART;VALUE=DATE:20231020
DTEND;VALUE=DATE:20231023
DTSTAMP:20260421T220654
CREATED:20230830T160035Z
LAST-MODIFIED:20230830T160035Z
UID:10000062-1697760000-1698019199@conseilsportmontreal.ca
SUMMARY:ISU Short Track Speed Skating World Cup #1
DESCRIPTION:
URL:https://conseilsportmontreal.ca/evenement/coupe-du-monde-de-patinage-de-vitesse-1-sur-courte-piste-isu/\
LOCATION:Maurice-Richard Arena, 2800 Viau Street, Montreal, Quebec, H1V 3J3, Canada
CATEGORIES:Sports Event
ATTACH;FMTTYPE=image/jpeg:https://conseilsportmontreal.ca/wp-content/uploads/2023/07/isu-logo-1.jpg
END:VEVENT
BEGIN:VEVENT
DTSTART;VALUE=DATE:20231027
DTEND;VALUE=DATE:20231030\
DTSTAMP:20260421T220654\
CREATED:20230830T160059Z\
LAST-MODIFIED:20230830T160059Z
UID:10000063-1698364800-1698623999@conseilsportmontreal.ca
SUMMARY:2023 ISU Short Track Speed Skating World Cup #2
DESCRIPTION:
URL:https://conseilsportmontreal.ca/evenement/coupe-du-monde-isu-de-patinage-de-vitesse-sur-courte-piste-2-2023/\
LOCATION:Maurice-Richard Arena, 2800 Viau Street, Montreal, Quebec, H1V 3J3, Canada
CATEGORIES:Sports Event
ATTACH;FMTTYPE=image/jpeg:https://conseilsportmontreal.ca/wp-content/uploads/2023/07/isu-logo-1.jpg
END:VEVENT
END:VCALENDAR