BEGIN:VCALENDAR;
VERSION:2.0;
PRODID:-//Montreal Sports Council - ECPv6.14.1//NONSGML v1.0//EN;
CALSCALE:GREGORIAN;
METHOD:PUBLISH;
X-WR-CALNAME:Montreal Sports Council
X-ORIGINAL-URL:https://conseilsportmontreal.ca\
X-WR-CALDESC:Events for Montreal Sports Council\
REFRESH-INTERVAL;VALUE=DURATION:PT1H\
X-Robots-Tag:noindex\
X-PUBLISHED-TTL:PT1H
BEGIN:VTIMEZONE
TZID:America/Toronto
BEGIN:DAYLIGHT
TZOFFSETFROM:-0500
TZOFFSETTO:-0400
TZNAME:EDT
DTSTART:20240310T070000
END:DAYLIGHT
BEGIN:STANDARD
TZOFFSETFROM:-0400
TZOFFSETTO:-0500
TZNAME:EST
DTSTART:20241103T060000
END:STANDARD
END:VTIMEZONE
BEGIN:VEVENT
DTSTART;TZID=America/Toronto:20240202T080000;
DTEND;TZID=America/Toronto:20240203T170000;
DTSTAMP:20260421T165448;
CREATED:20240126T143128Z
LAST-MODIFIED:20240216T165659Z
UID:10000078-1706860800-1706979600@conseilsportmontreal.ca
SUMMARY:Davis Cup - Canada vs. South Korea Match\
DESCRIPTION:\
URL:https://conseilsportmontreal.ca/evenement/coupe-davis-rencontre-canada-vs-coree-du-sud/\
LOCATION:IGA Stadium, Jarry Park
ATTACH;FMTTYPE=image/jpeg:https://conseilsportmontreal.ca/wp-content/uploads/2024/01/gbufazgwoaanpx.jpg
END:VEVENT
BEGIN:VEVENT
DTSTART;TZID=America/Toronto:20240216T080000
DTEND;TZID=America/Toronto:20240218T170000
DTSTAMP:20260421T165448
CREATED:20240126T144659Z
LAST-MODIFIED:20240216T170423Z
UID:10000079-1708070400-1708275600@conseilsportmontreal.ca
SUMMARY:2024 Canadian Indoor Track and Field Championships for Masters Athletes
DESCRIPTION:
URL:https://conseilsportmontreal.ca/evenement/championnats-canadiens-dathletisme-en-salle-des-veterans-2024/\
LOCATION:Claude-Robillard Sports Complex, 1000 Émile-Journault Ave., Montreal, Quebec, H2M 2E7, Canada
ATTACH;FMTTYPE=image/png:https://conseilsportmontreal.ca/wp-content/uploads/2024/01/design-sans-titre-1.png\
END:VEVENT\
END:VCALENDAR