BEGIN:VCALENDAR
VERSION:2.0
PRODID:-//Montreal Sports Council - ECPv6.14.1//NONSGML v1.0//EN
CALSCALE:GREGORIAN
METHOD:PUBLISH
X-ORIGINAL-URL:https://conseilsportmontreal.ca
X-WR-CALDESC:Events for Montreal Sports Council
REFRESH-INTERVAL;VALUE=DURATION:PT1H
X-Robots-Tag:noindex
X-PUBLISHED-TTL:PT1H
BEGIN:VTIMEZONE
TZID:America/Toronto
BEGIN:DAYLIGHT;
TZOFFSETFROM:-0500;
TZOFFSETTO:-0400;
TZNAME:EDT;
DTSTART:20240310T070000;
END:DAYLIGHT;
BEGIN:STANDARD;
TZOFFSETFROM:-0400
TZOFFSETTO:-0500
TZNAME:EST
DTSTART:20241103T060000
END:STANDARD
END:VTIMEZONE
BEGIN:VEVENT
DTSTART;TZID=America/Toronto:20240306T080000
DTEND;TZID=America/Toronto:20240310T170000
DTSTAMP:20260421T153349
CREATED:20240115T141945Z
LAST-MODIFIED:20240216T170009Z
UID:10000076-1709712000-1710090000@conseilsportmontreal.ca
SUMMARY:The 30th edition of the International Gymnix
DESCRIPTION:
URL:https://conseilsportmontreal.ca/evenement/la-30e-edition-de-linternational-gymnix/\
LOCATION:Claude-Robillard Sports Complex, 1000 Émile-Journault Ave., Montreal, Quebec, H2M 2E7, Canada
ATTACH;FMTTYPE=image/jpeg:https://conseilsportmontreal.ca/wp-content/uploads/2024/01/telechargement.jpeg
END:VEVENT
BEGIN:VEVENT
DTSTART;TZID=America/Toronto:20240316T080000
DTEND;TZID=America/Toronto:20240317T170000
DTSTAMP:20260421T153349
CREATED:20240126T142141Z
LAST-MODIFIED:20240126T144751Z
UID:10000077-1710576000-1710694800@conseilsportmontreal.ca
SUMMARY:Canadian Indoor Track and Field Championships
DESCRIPTION:
URL:https://conseilsportmontreal.ca/evenement/championnats-canadiens-dathletisme-en-salle/\
LOCATION:Claude-Robillard Sports Complex, 1000 Émile-Journault Ave., Montreal, Quebec, H2M 2E7, Canada
CATEGORIES:Sports event
ATTACH;FMTTYPE=image/png:https://conseilsportmontreal.ca/wp-content/uploads/2024/01/design-sans-titre-1.png
END:VEVENT
BEGIN:VEVENT
DTSTART;VALUE=DATE:20240318
DTEND;VALUE=DATE:20240325
DTSTAMP:20260421T153349
CREATED:20230830T160238Z
LAST-MODIFIED:20230830T160238Z
UID:10000065-1710720000-1711324799@conseilsportmontreal.ca
SUMMARY:2024 World Figure Skating Championships
DESCRIPTION:
URL:https://conseilsportmontreal.ca/evenement/championnats-du-monde-de-patinage-artistique-2024/\
LOCATION:Bell Centre, 1909 Av. des Canadiens-de-Montréal, Montréal, Québec, QC H3B 5E8, Canada\
CATEGORIES:Sports event
ATTACH;FMTTYPE=image/jpeg:https://conseilsportmontreal.ca/wp-content/uploads/2023/07/worl-figure-skating-logo.jpg
END:VEVENT
BEGIN:VEVENT
DTSTART;TZID=America/Toronto:20240321T080000
DTEND;TZID=America/Toronto:20240323T170000
DTSTAMP:20260421T153349
CREATED:20240209T161241Z
LAST-MODIFIED:20240209T161602Z
UID:10000080-1711008000-1711213200@conseilsportmontreal.ca
SUMMARY:Montreal Urban Games
DESCRIPTION:
URL:https://conseilsportmontreal.ca/evenement/jeux-urbains-de-montreal/
LOCATION:Eaton Centre\, 705 Sainte-Catherine Street\, Montreal\, Quebec\, H3B 4G5\
ATTACH;FMTTYPE=image/png:https://conseilsportmontreal.ca/wp-content/uploads/2024/02/design-sans-titre.png
END:VEVENT\
BEGIN:VEVENT\
DTSTART;TZID=America/Toronto:20240322T093000\
DTEND;TZID=America/Toronto:20240322T120000\
DTSTAMP:20260421T153349
CREATED:20240311T105607Z
LAST-MODIFIED:20240311T110426Z
UID:10000081-1711099800-1711108800@conseilsportmontreal.ca
SUMMARY:Coaches Club: Podcast Club
DESCRIPTION:
URL:https://conseilsportmontreal.ca/evenement/club-entraineur%c2%b7e%c2%b7s-club-de-podcast/
CATEGORIES:Montreal Sports Excellence Event
ATTACH;FMTTYPE=image/png:https://conseilsportmontreal.ca/wp-content/uploads/2023/09/visuel-site-evenements.png
END:VEVENT
END:VCALENDAR