BEGIN:VCALENDAR;
VERSION:2.0;
PRODID:-//Montreal Sports Council - ECPv6.14.1//NONSGML v1.0//EN;
CALSCALE:GREGORIAN;
METHOD:PUBLISH;
X-WR-CALNAME:Montreal Sports Council
X-ORIGINAL-URL:https://conseilsportmontreal.ca\
X-WR-CALDESC:Events for Montreal Sports Council\
REFRESH-INTERVAL;VALUE=DURATION:PT1H\
X-Robots-Tag:noindex\
X-PUBLISHED-TTL:PT1H
BEGIN:VTIMEZONE
TZID:America/Toronto
BEGIN:DAYLIGHT
TZOFFSETFROM:-0500
TZOFFSETTO:-0400
TZNAME:EDT
DTSTART:20240310T070000
END:DAYLIGHT;
BEGIN:STANDARD;
TZOFFSETFROM:-0400;
TZOFFSETTO:-0500;
TZNAME:EST;
DTSTART:20241103T060000;
END:STANDARD;
END:VTIMEZONE;
BEGIN:VEVENT
DTSTART;TZID=America/Toronto:20240506T080000;
DTEND;TZID=America/Toronto:20240511T170000;
DTSTAMP:20260421T124817;
CREATED:20240411T160618Z
LAST-MODIFIED:20240411T162251Z
UID:10000084-1714982400-1715446800@conseilsportmontreal.ca
SUMMARY:Canadian Artistic Swimming Championships
DESCRIPTION:
URL:https://conseilsportmontreal.ca/evenement/championnat-canadien-de-natation-artistique/\
LOCATION:Claude-Robillard Sports Complex, 1000 Émile-Journault Ave., Montreal, Quebec, H2M 2E7, Canada\
CATEGORIES:Sports Event
ATTACH;FMTTYPE=image/png:https://conseilsportmontreal.ca/wp-content/uploads/2024/04/visuel-event-infolettre.png
END:VEVENT
BEGIN:VEVENT
DTSTART;TZID=America/Toronto:20240510T080000
DTEND;TZID=America/Toronto:20240512T170000
DTSTAMP:20260421T124817
CREATED:20240411T162448Z
LAST-MODIFIED:20240411T162605Z
UID:10000085-1715328000-1715533200@conseilsportmontreal.ca
SUMMARY:Canadian Masters Artistic Swimming Championships
DESCRIPTION:
URL:https://conseilsportmontreal.ca/evenement/championnat-canadien-de-natation-artistique-master/\
LOCATION:Claude-Robillard Sports Complex, 1000 Émile-Journault Ave., Montreal, Quebec, H2M 2E7, Canada\
CATEGORIES:Sports Event
ATTACH;FMTTYPE=image/png:https://conseilsportmontreal.ca/wp-content/uploads/2024/04/visuel-event-infolettre.png
END:VEVENT
BEGIN:VEVENT
DTSTART;TZID=America/Toronto:20240510T093000
DTEND;TZID=America/Toronto:20240510T120000
DTSTAMP:20260421T124817
CREATED:20240311T110915Z
LAST-MODIFIED:20240311T111511Z
UID:10000083-1715333400-1715342400@conseilsportmontreal.ca
SUMMARY:Coaches Club: The Ted Lasso Effect
DESCRIPTION:
URL:https://conseilsportmontreal.ca/evenement/club-entraineur%c2%b7e%c2%b7s-leffet-ted-lasso/
CATEGORIES:Montreal Sports Excellence Event
ATTACH;FMTTYPE=image/png:https://conseilsportmontreal.ca/wp-content/uploads/2023/09/visuel-site-evenements.png
END:VEVENT
BEGIN:VEVENT
DTSTART;VALUE=DATE:20240513
DTEND;VALUE=DATE:20240520;
DTSTAMP:20260421T124817;
CREATED:20230830T160352Z;
LAST-MODIFIED:20230830T160352Z
UID:10000066-1715558400-1716163199@conseilsportmontreal.ca
SUMMARY:2024 Canadian Olympic/Paralympic Swimming Trials
DESCRIPTION:
URL:https://conseilsportmontreal.ca/evenement/essais-olympiques-paralympiques-canadiens-de-natation-2024/
LOCATION:Olympic Stadium
CATEGORIES:Sports Event
END:VEVENT
BEGIN:VEVENT
DTSTART;TZID=America/Toronto:20240523T080000
DTEND;TZID=America/Toronto:20240526T170000
DTSTAMP:20260421T124817
CREATED:20240412T145825Z
LAST-MODIFIED:20240412T145825Z
UID:10000086-1716451200-1716742800@conseilsportmontreal.ca
SUMMARY:2024 Canadian Judo Championships
DESCRIPTION:
URL:https://conseilsportmontreal.ca/evenement/championnats-canadiens-de-judo-2024/
LOCATION:Pierre-Charbonneau Centre
CATEGORIES:Sports event
ATTACH;FMTTYPE=image/png:https://conseilsportmontreal.ca/wp-content/uploads/2024/04/visuel-event-infolettre-1.png
END:VEVENT
END:VCALENDAR