BEGIN:VCALENDAR;
VERSION:2.0;
PRODID:-//Montreal Sports Council - ECPv6.14.1//NONSGML v1.0//EN;
CALSCALE:GREGORIAN;
METHOD:PUBLISH;
X-WR-CALNAME:Montreal Sports Council
X-ORIGINAL-URL:https://conseilsportmontreal.ca\
X-WR-CALDESC:Events for Montreal Sports Council\
REFRESH-INTERVAL;VALUE=DURATION:PT1H\
X-Robots-Tag:noindex\
X-PUBLISHED-TTL:PT1H\
BEGIN:VTIMEZONE
TZID:America/Toronto
BEGIN:DAYLIGHT
TZOFFSETFROM:-0500
TZOFFSETTO:-0400
TZNAME:EDT
DTSTART:20240310T070000
END:DAYLIGHT
BEGIN:STANDARD
TZOFFSETFROM:-0400
TZOFFSETTO:-0500
TZNAME:EST
DTSTART:20241103T060000
END:STANDARD
END:VTIMEZONE
BEGIN:VEVENT
DTSTART;VALUE=DATE:20240915
DTEND;VALUE=DATE:20240916
DTSTAMP:20260421T071042
CREATED:20240806T173916Z
LAST-MODIFIED:20240806T180821Z
UID:10000090-1726358400-1726444799@conseilsportmontreal.ca
SUMMARY:Grand Prix Cycliste de Montréal
DESCRIPTION:
URL:https://conseilsportmontreal.ca/evenement/le-grand-prix-cycliste-de-montreal/
LOCATION:Mont-Royal\, Montreal\, Quebec\, Canada\
CATEGORIES:Sports event\
ATTACH;FMTTYPE=image/png:https://conseilsportmontreal.ca/wp-content/uploads/2024/08/visuel-event-infolettre-6.png
END:VEVENT
BEGIN:VEVENT
DTSTART;TZID=America/Toronto:20240920T093000
DTEND;TZID=America/Toronto:20240920T120000
DTSTAMP:20260421T071042
CREATED:20240904T155026Z
LAST-MODIFIED:20240913T155807Z
UID:10000092-1726824600-1726833600@conseilsportmontreal.ca
SUMMARY:(Date postponed\, Claude-Robillard Sports Complex closed) Club Coaches: How to Start the Season Right!
DESCRIPTION:
URL:https://conseilsportmontreal.ca/evenement/club-entraineur%c2%b7e%c2%b7s-comment-bien-debuter-une-saison/
LOCATION:Claude-Robillard Sports Complex\, 1000\, Émile-Journault Ave.\, Montreal\, Quebec\, H2M 2E7\, Canada
CATEGORIES:Montreal Sports Excellence Event
ATTACH;FMTTYPE=image/png:https://conseilsportmontreal.ca/wp-content/uploads/2024/09/lab.png
END:VEVENT
BEGIN:VEVENT
DTSTART;VALUE=DATE:20240921
DTEND;VALUE=DATE:20240923;
DTSTAMP:20260421T071042;
CREATED:20240806T181549Z;
LAST-MODIFIED:20240806T182524Z
UID:10000091-1726876800-1727049599@conseilsportmontreal.ca
SUMMARY:Montreal Beneva Marathon
DESCRIPTION:
URL:https://conseilsportmontreal.ca/evenement/4269/
LOCATION:Montreal (multiple locations)
CATEGORIES:Sports event
ATTACH;FMTTYPE=image/png:https://conseilsportmontreal.ca/wp-content/uploads/2024/08/visuel-event-infolettre-7.png
END:VEVENT
BEGIN:VEVENT
DTSTART;VALUE=DATE:20240924
DTEND;VALUE=DATE:20240930
DTSTAMP:20260421T071042
CREATED:20230830T160648Z
LAST-MODIFIED:20240906T153639Z
UID:10000067-1727136000-1727654399@conseilsportmontreal.ca
SUMMARY:2024 Presidents' Golf Cup
DESCRIPTION:
URL:https://conseilsportmontreal.ca/evenement/coupe-des-presidents-de-golf-2024/\
LOCATION:Royal Montreal Golf Club, 25 South Ridge Road, L'Île-Bizard, Quebec, H9E 1B3, Canada\
CATEGORIES:Sports Event
ATTACH;FMTTYPE=image/png:https://conseilsportmontreal.ca/wp-content/uploads/2023/08/presidents-cup.png
END:VEVENT
BEGIN:VEVENT
DTSTART;TZID=America/Toronto:20240924T120000
DTEND;TZID=America/Toronto:20240924T130000
DTSTAMP:20260421T071042
CREATED:20240904T155532Z
LAST-MODIFIED:20240904T155903Z
UID:10000093-1727179200-1727182800@conseilsportmontreal.ca
SUMMARY:Coaches Club: How to Start the Season Off Right!
DESCRIPTION:
URL:https://conseilsportmontreal.ca/evenement/club-entraineur%c2%b7e%c2%b7s-comment-bien-debuter-une-saison-2/
LOCATION:online
CATEGORIES:Montréal Sports Excellence Event
ATTACH;FMTTYPE=image/png:https://conseilsportmontreal.ca/wp-content/uploads/2024/09/lab.png
END:VEVENT
END:VCALENDAR